BEGIN:VCALENDAR
VERSION:2.0
PRODID:-//hacksw/handcal//NONSGML v1.0//EN
BEGIN:VEVENT
SUMMARY:Pitch & Putt scramble a 2
UID:08a04621-8989-4f2e-9561-4d7c41f8724c
DTSTART:20260501T150000Z
DTEND:20260501T170000Z
LOCATION:Localisation   
CATEGORIES:Sportif
STATUS:
DESCRIPTION:<p>ouverture de la saison de P&P</p>
URL;VALUE=URI:https://www.asgolfodet.fr/evenements/2026/05/01/pitch-putt-scramble-a-2-2423563
END:VEVENT
END:VCALENDAR
